BEGIN:VCALENDAR
VERSION:2.0
PRODID:-//wp-events-plugin.com//7.2.2.1//EN
BEGIN:VEVENT
UID:451@stg.riseprofessionals.com
DTSTART;TZID=America/New_York:20230420T160000
DTEND;TZID=America/New_York:20230420T170000
DTSTAMP:20230324T154044Z
URL:https://stg.riseprofessionals.com/events/new-member-mixer-2/
SUMMARY:New Member Mixer
DESCRIPTION:Please join us for our April new member mixer\, hosted by the E
 ngagement Committee. We welcome all new RISE members to come network\, fin
 d out what’s happening at RISE\, and learn how you can get involved.
ATTACH;FMTTYPE=image/jpeg:https://cdn.riseprofessionals.com/wp-content/upl
 oads/2023/01/28161648/Welcome-to-RISE.png
CATEGORIES:New Member Mixer,Virtual
LOCATION:https://us06web.zoom.us/meeting/register/tZwsc-Ggpj0jHtAo7BMjt-HCr
 qt7X5wmxMCQ
END:VEVENT
BEGIN:VTIMEZONE
TZID:America/New_York
X-LIC-LOCATION:America/New_York
BEGIN:DAYLIGHT
DTSTART:20230312T030000
TZOFFSETFROM:-0500
TZOFFSETTO:-0400
TZNAME:EDT
END:DAYLIGHT
END:VTIMEZONE
END:VCALENDAR