BEGIN:VCALENDAR
VERSION:2.0
PRODID:-//wp-events-plugin.com//7.2.2.1//EN
BEGIN:VEVENT
UID:469@stg.riseprofessionals.com
DTSTART;TZID=America/New_York:20230911T150000
DTEND;TZID=America/New_York:20230911T160000
DTSTAMP:20230731T202254Z
URL:https://stg.riseprofessionals.com/events/mentorship-monday-september/
SUMMARY:Mentorship Monday - September
DESCRIPTION:Join us for our September edition of Mentorship Monday with Mat
 t McColley\, Executive Vice President\, Operations at KW Specialty Insuran
 ce Company\, featuring mentorship insights\, networking opportunities\, an
 d Q&amp\;A. All are welcome!\n\n
ATTACH;FMTTYPE=image/jpeg:https://cdn.riseprofessionals.com/wp-content/upl
 oads/2023/07/31202236/Mentorship-2.png
CATEGORIES:Mentorship Monday,Virtual
LOCATION:https://us06web.zoom.us/meeting/register/tZYodu2sqD0tHNWFjBclzH7bB
 dnQnJ1EK1j9
END:VEVENT
BEGIN:VTIMEZONE
TZID:America/New_York
X-LIC-LOCATION:America/New_York
BEGIN:DAYLIGHT
DTSTART:20230312T030000
TZOFFSETFROM:-0500
TZOFFSETTO:-0400
TZNAME:EDT
END:DAYLIGHT
END:VTIMEZONE
END:VCALENDAR