BEGIN:VCALENDAR
VERSION:2.0
PRODID:-//wp-events-plugin.com//7.2.2.1//EN
BEGIN:VEVENT
UID:449@stg.riseprofessionals.com
DTSTART;TZID=America/New_York:20230403T150000
DTEND;TZID=America/New_York:20230403T160000
DTSTAMP:20230314T160746Z
URL:https://stg.riseprofessionals.com/events/mentorship-monday-april/
SUMMARY:Mentorship Monday - April
DESCRIPTION:Join us for our April edition of Mentorship Monday! All are wel
 come.
CATEGORIES:Mentorship Monday,Virtual
LOCATION:https://us06web.zoom.us/meeting/register/tZAsdeuqqDIpHNWOm1wMl80E7
 yXZcPXRo8Lk
END:VEVENT
BEGIN:VTIMEZONE
TZID:America/New_York
X-LIC-LOCATION:America/New_York
BEGIN:DAYLIGHT
DTSTART:20230312T030000
TZOFFSETFROM:-0500
TZOFFSETTO:-0400
TZNAME:EDT
END:DAYLIGHT
END:VTIMEZONE
END:VCALENDAR