BEGIN:VCALENDAR
VERSION:2.0
PRODID:-//wp-events-plugin.com//7.2.2.1//EN
BEGIN:VEVENT
UID:467@stg.riseprofessionals.com
DTSTART;TZID=America/New_York:20231011T120000
DTEND;TZID=America/New_York:20231013T170000
DTSTAMP:20231003T151910Z
URL:https://stg.riseprofessionals.com/events/innovation-bootcamp/
SUMMARY:Innovation Bootcamp
DESCRIPTION:/*! elementor - v3.16.0 - 14-09-2023 */\n.elementor-heading-tit
 le{padding:0\;margin:0\;line-height:1}.elementor-widget-heading .elementor
 -heading-title[class*=elementor-size-]>a{color:inherit\;font-size:inherit\
 ;line-height:inherit}.elementor-widget-heading .elementor-heading-title.el
 ementor-size-small{font-size:15px}.elementor-widget-heading .elementor-hea
 ding-title.elementor-size-medium{font-size:19px}.elementor-widget-heading 
 .elementor-heading-title.elementor-size-large{font-size:29px}.elementor-wi
 dget-heading .elementor-heading-title.elementor-size-xl{font-size:39px}.el
 ementor-widget-heading .elementor-heading-title.elementor-size-xxl{font-si
 ze:59px}Innovation Bootcamp: Unlocking Your Potential to Drive Change		\n	
 		Bookings will show as “closed” unless you are logged into your RISE 
 profile!		\n		Welcome to the Innovation Bootcamp\, where aspiring insuranc
 e executives and professionals in non-senior/decision-making roles within 
 the insurance industry come together to gain the essential skills needed t
 o innovate and make a lasting impact within their organizations. Launching
  on October 11-13\, this immersive program will equip you with the knowled
 ge and tools to effectively define problems\, communicate solutions\, and 
 persuade senior leaders to embrace innovation from any position.		\n						
 							\n					\n					\n				\n								\n					\n					\n				\n								\n					
 \n					\n				\n								\n					\n					\n				\n												\n									\n				
 		Dynamic Course Delivery					\n							The bootcamp will be delivered virt
 ually over three days\, with four 1-hour courses per day.Each session will
  be conducted in a small workshop-style format\, ensuring personalized att
 ention and meaningful interactions with industry thought leaders\, insurte
 ch pioneers\, and experienced innovation executives from companies like Al
 lstate\, The Hanover Insurance Group\, Charlee.Ai\, Hi Marley and more.			
 			\n													\n					\n					\n				\n								\n					\n					\n				\n				
 				\n					\n					\n				\n								\n					\n					\n				\n												\n				
 					\n						Accelerate Your Growth					\n							Learn how to effectively 
 define problems\, communicate solutions\, and persuade senior leaders to e
 mbrace innovation.Gain practical skills in design thinking\, prototyping\,
  change management\, and more.Connect and collaborate with like-minded pro
 fessionals\, forming valuable networks within the insurance industry.Acqui
 re the knowledge to make a lasting impact within your organization\, drivi
 ng growth and success.						\n													\n					\n					\n				\n								\
 n					\n					\n				\n								\n					\n					\n				\n								\n					\n					\
 n				\n												\n									\n						Stand Out from the Crowd					\n					
 		What sets our Innovation Bootcamp apart is our focus on practical skills
  development. While many programs highlight the importance of innovation o
 r showcase innovative products\, our bootcamp is the only one that truly t
 eaches you how to innovate and pitch your ideas to your executive team. Yo
 u&#8217\;ll leave with the confidence and capabilities to effect change wi
 thin your organization.						\n			Our Comprehensive Curriculum:		\n		 The
  Innovation Bootcamp is divided into three levels\, each designed to progr
 essively build your expertise and empower you to become a change agent wit
 hin your organization. Let's explore what you can expect to learn during e
 ach level:		\n			/*! elementor - v3.16.0 - 14-09-2023 */\n.elementor-accor
 dion{text-align:left}.elementor-accordion .elementor-accordion-item{border
 :1px solid #d5d8dc}.elementor-accordion .elementor-accordion-item+.element
 or-accordion-item{border-top:none}.elementor-accordion .elementor-tab-titl
 e{margin:0\;padding:15px 20px\;font-weight:700\;line-height:1\;cursor:poin
 ter\;outline:none}.elementor-accordion .elementor-tab-title .elementor-acc
 ordion-icon{display:inline-block\;width:1.5em}.elementor-accordion .elemen
 tor-tab-title .elementor-accordion-icon svg{width:1em\;height:1em}.element
 or-accordion .elementor-tab-title .elementor-accordion-icon.elementor-acco
 rdion-icon-right{float:right\;text-align:right}.elementor-accordion .eleme
 ntor-tab-title .elementor-accordion-icon.elementor-accordion-icon-left{flo
 at:left\;text-align:left}.elementor-accordion .elementor-tab-title .elemen
 tor-accordion-icon .elementor-accordion-icon-closed{display:block}.element
 or-accordion .elementor-tab-title .elementor-accordion-icon .elementor-acc
 ordion-icon-opened\,.elementor-accordion .elementor-tab-title.elementor-ac
 tive .elementor-accordion-icon-closed{display:none}.elementor-accordion .e
 lementor-tab-title.elementor-active .elementor-accordion-icon-opened{displ
 ay:block}.elementor-accordion .elementor-tab-content{display:none\;padding
 :15px 20px\;border-top:1px solid #d5d8dc}@media (max-width:767px){.element
 or-accordion .elementor-tab-title{padding:12px 15px}.elementor-accordion .
 elementor-tab-title .elementor-accordion-icon{width:1.2em}.elementor-accor
 dion .elementor-tab-content{padding:7px 15px}}.e-con-inner>.elementor-widg
 et-accordion\,.e-con>.elementor-widget-accordion{width:var(--container-wid
 get-width)\;--flex-grow:var(--container-widget-flex-grow)}		\n												
 Level 1: Foundations\n					Course 001: The Basics of Innovation: Understan
 d the fundamentals of innovation and explore how it manifests in different
  companies.Course 002: Speaking the Language: Familiarize yourself with co
 mmon frameworks and industry jargon to enhance your communication skills.C
 ourse 003: Emerging Technologies &amp\; Process Innovation: Discover succe
 ssful innovation case studies from startups and incumbents.Course 004: Ide
 ntifying and Defining a Problem: Master the techniques of design thinking\
 , customer journey mapping\, and process mining to pinpoint and articulate
  problems effectively.\n												Level 2: Practitioner\n					Course 005
 : Developing a Business Case: Learn to create compelling business cases\, 
 calculate ROI\, and assess cost-benefit analysis.Course 006: Creating a Pr
 ototype/Proof of Concept: Gain hands-on experience in building prototypes 
 and proofs of concept to validate your ideas.Course 007: Understanding You
 r Stakeholders and Navigating the Corporate Landscape: Navigate the corpor
 ate environment\, build support\, identify key stakeholders\, and secure s
 enior sponsorship.Course 008: Measuring Success: Define key performance in
 dicators (KPIs) and understand how to evaluate the success of your innovat
 ion initiatives.\n												Level 3: Change Agent\n					Course 009: Putt
 ing Ideas into Practice: Learn the art of implementation\, change manageme
 nt\, commercialization\, and project planning.Course 010: Maintaining Mome
 ntum: Master effective communication\, feedback loops\, and tracking KPIs 
 to ensure ongoing success.Course 011: Perfecting Your Pitch: Enhance your 
 presentation and speaking skills to influence and persuade senior executiv
 es.Course 012: Pitch Day Competition: Showcase your newly acquired skills 
 in a pitch competition\, putting your innovative ideas to the test.\n			/*
 ! elementor - v3.16.0 - 14-09-2023 */\n.elementor-widget-divider{--divider
 -border-style:none\;--divider-border-width:1px\;--divider-color:#0c0d0e\;-
 -divider-icon-size:20px\;--divider-element-spacing:10px\;--divider-pattern
 -height:24px\;--divider-pattern-size:20px\;--divider-pattern-url:none\;--d
 ivider-pattern-repeat:repeat-x}.elementor-widget-divider .elementor-divide
 r{display:flex}.elementor-widget-divider .elementor-divider__text{font-siz
 e:15px\;line-height:1\;max-width:95%}.elementor-widget-divider .elementor-
 divider__element{margin:0 var(--divider-element-spacing)\;flex-shrink:0}.e
 lementor-widget-divider .elementor-icon{font-size:var(--divider-icon-size)
 }.elementor-widget-divider .elementor-divider-separator{display:flex\;marg
 in:0\;direction:ltr}.elementor-widget-divider--view-line_icon .elementor-d
 ivider-separator\,.elementor-widget-divider--view-line_text .elementor-div
 ider-separator{align-items:center}.elementor-widget-divider--view-line_ico
 n .elementor-divider-separator:after\,.elementor-widget-divider--view-line
 _icon .elementor-divider-separator:before\,.elementor-widget-divider--view
 -line_text .elementor-divider-separator:after\,.elementor-widget-divider--
 view-line_text .elementor-divider-separator:before{display:block\;content:
 ""\;border-bottom:0\;flex-grow:1\;border-top:var(--divider-border-width) v
 ar(--divider-border-style) var(--divider-color)}.elementor-widget-divider-
 -element-align-left .elementor-divider .elementor-divider-separator>.eleme
 ntor-divider__svg:first-of-type{flex-grow:0\;flex-shrink:100}.elementor-wi
 dget-divider--element-align-left .elementor-divider-separator:before{conte
 nt:none}.elementor-widget-divider--element-align-left .elementor-divider__
 element{margin-left:0}.elementor-widget-divider--element-align-right .elem
 entor-divider .elementor-divider-separator>.elementor-divider__svg:last-of
 -type{flex-grow:0\;flex-shrink:100}.elementor-widget-divider--element-alig
 n-right .elementor-divider-separator:after{content:none}.elementor-widget-
 divider--element-align-right .elementor-divider__element{margin-right:0}.e
 lementor-widget-divider:not(.elementor-widget-divider--view-line_text):not
 (.elementor-widget-divider--view-line_icon) .elementor-divider-separator{b
 order-top:var(--divider-border-width) var(--divider-border-style) var(--di
 vider-color)}.elementor-widget-divider--separator-type-pattern{--divider-b
 order-style:none}.elementor-widget-divider--separator-type-pattern.element
 or-widget-divider--view-line .elementor-divider-separator\,.elementor-widg
 et-divider--separator-type-pattern:not(.elementor-widget-divider--view-lin
 e) .elementor-divider-separator:after\,.elementor-widget-divider--separato
 r-type-pattern:not(.elementor-widget-divider--view-line) .elementor-divide
 r-separator:before\,.elementor-widget-divider--separator-type-pattern:not(
 [class*=elementor-widget-divider--view]) .elementor-divider-separator{widt
 h:100%\;min-height:var(--divider-pattern-height)\;-webkit-mask-size:var(--
 divider-pattern-size) 100%\;mask-size:var(--divider-pattern-size) 100%\;-w
 ebkit-mask-repeat:var(--divider-pattern-repeat)\;mask-repeat:var(--divider
 -pattern-repeat)\;background-color:var(--divider-color)\;-webkit-mask-imag
 e:var(--divider-pattern-url)\;mask-image:var(--divider-pattern-url)}.eleme
 ntor-widget-divider--no-spacing{--divider-pattern-size:auto}.elementor-wid
 get-divider--bg-round{--divider-pattern-repeat:round}.rtl .elementor-widge
 t-divider .elementor-divider__text{direction:rtl}.e-con-inner>.elementor-w
 idget-divider\,.e-con>.elementor-widget-divider{width:var(--container-widg
 et-width\,100%)\;--flex-grow:var(--container-widget-flex-grow)}		\n			Read
 y to Become a Change Agent?		\n		Join us on October 11-13 and embark on a 
 journey of innovation\, growth\, and leadership. Don't miss this chance to
  become an agent of change within the insurance industry. 		\n			Registra
 tion Fee		\n		RISE Members $199 Corporate Members $179
ATTACH;FMTTYPE=image/jpeg:https://cdn.riseprofessionals.com/wp-content/upl
 oads/2023/07/05164753/Innovation-Bootcamp-1200-%C3%97-465-px-1200-%C3%97-6
 28-px-Presentation-169.png
CATEGORIES:Courses,Virtual
END:VEVENT
BEGIN:VTIMEZONE
TZID:America/New_York
X-LIC-LOCATION:America/New_York
BEGIN:DAYLIGHT
DTSTART:20230312T030000
TZOFFSETFROM:-0500
TZOFFSETTO:-0400
TZNAME:EDT
END:DAYLIGHT
END:VTIMEZONE
END:VCALENDAR