BEGIN:VCALENDAR
VERSION:2.0
PRODID:-//wp-events-plugin.com//7.2.2.1//EN
BEGIN:VEVENT
UID:463@stg.riseprofessionals.com
DTSTART;TZID=America/New_York:20230620T130000
DTEND;TZID=America/New_York:20230620T140000
DTSTAMP:20230531T153155Z
URL:https://stg.riseprofessionals.com/events/fireside-chatgpt/
SUMMARY:Fireside Chat(GPT)
DESCRIPTION:As the insurance industry undergoes digital transformation\, th
 e integration of advanced technologies has become essential for streamlini
 ng processes and improving customer experiences. Join our webinar to explo
 re the revolutionary impact that ChatGPT and other Language Models (LLMs) 
 can have on the industry. This session will delve into the potential of LL
 Ms to automate and enhance various aspects of insurance operations\, from 
 customer service to risk assessment and claims processing.\n\nJoin this we
 binar to gain a comprehensive understanding of how ChatGPT and other LLMs 
 are shaping the insurance landscape. Explore the potential of these transf
 ormative technologies and discover practical strategies for integrating th
 em into your organization to stay ahead in the evolving insurance industry
 . Don't miss this opportunity to learn from industry experts and explore t
 he future of insurance with ChatGPT and LLMs.\n\n\n\nSpeakers:\n\n 	Jamie 
 Warner\, Data Science and Analytics Leader\n 	Margeaux Giles\, CEO of IRYS
  Insurtech\n 	Becky Gandillon\, Practice Lead\, Data &amp\; Analytics at C
 entric Consulting\n\nModerated by: Ema Roloff\, EIS Group\n\n&nbsp\;\n\n&n
 bsp\;
ATTACH;FMTTYPE=image/jpeg:https://cdn.riseprofessionals.com/wp-content/upl
 oads/2023/05/28141022/Chat-GPT-2.png
CATEGORIES:Virtual,Webinar
LOCATION:https://us06web.zoom.us/webinar/register/WN_RkSkg6TnRNSuGWWAnZvVBw
END:VEVENT
BEGIN:VTIMEZONE
TZID:America/New_York
X-LIC-LOCATION:America/New_York
BEGIN:DAYLIGHT
DTSTART:20230312T030000
TZOFFSETFROM:-0500
TZOFFSETTO:-0400
TZNAME:EDT
END:DAYLIGHT
END:VTIMEZONE
END:VCALENDAR