BEGIN:VCALENDAR
VERSION:2.0
PRODID:-//wp-events-plugin.com//7.2.2.1//EN
BEGIN:VEVENT
UID:450@stg.riseprofessionals.com
DTSTART;TZID=America/New_York:20230328T163000
DTEND;TZID=America/New_York:20230328T193000
DTSTAMP:20230322T133516Z
URL:https://stg.riseprofessionals.com/events/cocktails-conversation-tampa-
 fl/
SUMMARY:Cocktails & Conversation - Tampa\, FL
DESCRIPTION:&nbsp\;\n\n&nbsp\;\n\n&nbsp\;\n\n&nbsp\;\n\n&nbsp\;\n\n&nbsp\;\
 n\n\n\nYou're invited! Please join us in sunny Tampa for Cocktails and Con
 versation - hosted by Esquire\, Insure National\, Gallagher Bassett\, RISE
  Professionals and Sodoro Law.\n\nRSVP: https://www.punchbowl.com/parties/
 f93d49fa258dcc364285
ATTACH;FMTTYPE=image/jpeg:https://cdn.riseprofessionals.com/wp-content/upl
 oads/2023/03/28161225/Cocktail-1200-%C3%97-628-px-2.png
CATEGORIES:In-Person
LOCATION:Jacksons\, 601 S Harbour Island Blvd\, Tampa\, FL\, 33602\, United
  States
GEO:27.938732;-82.454894
X-APPLE-STRUCTURED-LOCATION;VALUE=URI;X-ADDRESS=601 S Harbour Island Blvd\,
  Tampa\, FL\, 33602\, United States;X-APPLE-RADIUS=100;X-TITLE=Jacksons:ge
 o:27.938732,-82.454894
END:VEVENT
BEGIN:VTIMEZONE
TZID:America/New_York
X-LIC-LOCATION:America/New_York
BEGIN:DAYLIGHT
DTSTART:20230312T030000
TZOFFSETFROM:-0500
TZOFFSETTO:-0400
TZNAME:EDT
END:DAYLIGHT
END:VTIMEZONE
END:VCALENDAR