BEGIN:VCALENDAR
VERSION:2.0
PRODID:-//wp-events-plugin.com//7.2.2.1//EN
BEGIN:VEVENT
UID:464@stg.riseprofessionals.com
DTSTART;TZID=America/New_York;VALUE=DATE:20240618
DTEND;TZID=America/New_York;VALUE=DATE:20240621
DTSTAMP:20240201T204121Z
URL:https://stg.riseprofessionals.com/events/2024-leadership-summit-awards
 -gala/
SUMMARY:2024 Leadership Summit & Awards Gala
DESCRIPTION:/*! elementor - v3.18.0 - 20-12-2023 */\n.elementor-heading-tit
 le{padding:0\;margin:0\;line-height:1}.elementor-widget-heading .elementor
 -heading-title[class*=elementor-size-]>a{color:inherit\;font-size:inherit\
 ;line-height:inherit}.elementor-widget-heading .elementor-heading-title.el
 ementor-size-small{font-size:15px}.elementor-widget-heading .elementor-hea
 ding-title.elementor-size-medium{font-size:19px}.elementor-widget-heading 
 .elementor-heading-title.elementor-size-large{font-size:29px}.elementor-wi
 dget-heading .elementor-heading-title.elementor-size-xl{font-size:39px}.el
 ementor-widget-heading .elementor-heading-title.elementor-size-xxl{font-si
 ze:59px}2024 Leadership Summit\n& Awards Gala		\n		Ignite your leadership 
 journey at the 2024 Leadership Summit &amp\; Awards Gala! Join us for a tr
 ansformative event where industry leaders\, innovators\, and aspiring trai
 lblazers gather to unlock their leadership potential. Immerse yourself in 
 thought-provoking keynotes\, engaging workshops\, and invaluable networkin
 g opportunities. Recognize and celebrate the exceptional individuals shapi
 ng the future of our industry. Save the date and stay tuned for more updat
 es and registration details.		\n			/*! elementor - v3.18.0 - 20-12-2023 */
 \n.elementor-widget-image{text-align:center}.elementor-widget-image a{disp
 lay:inline-block}.elementor-widget-image a img[src$=".svg"]{width:48px}.el
 ementor-widget-image img{vertical-align:middle\;display:inline-block}					
 																						\n			/*! elementor - v3.18.0 - 20-12-2023 */\n.eleme
 ntor-widget-tabs.elementor-tabs-view-vertical .elementor-tabs-wrapper{widt
 h:25%\;flex-shrink:0}.elementor-widget-tabs.elementor-tabs-view-vertical .
 elementor-tab-desktop-title.elementor-active{border-right-style:none}.elem
 entor-widget-tabs.elementor-tabs-view-vertical .elementor-tab-desktop-titl
 e.elementor-active:after\,.elementor-widget-tabs.elementor-tabs-view-verti
 cal .elementor-tab-desktop-title.elementor-active:before{height:999em\;wid
 th:0\;right:0\;border-right-style:solid}.elementor-widget-tabs.elementor-t
 abs-view-vertical .elementor-tab-desktop-title.elementor-active:before{top
 :0\;transform:translateY(-100%)}.elementor-widget-tabs.elementor-tabs-view
 -vertical .elementor-tab-desktop-title.elementor-active:after{top:100%}.el
 ementor-widget-tabs.elementor-tabs-view-horizontal .elementor-tab-desktop-
 title{display:table-cell}.elementor-widget-tabs.elementor-tabs-view-horizo
 ntal .elementor-tab-desktop-title.elementor-active{border-bottom-style:non
 e}.elementor-widget-tabs.elementor-tabs-view-horizontal .elementor-tab-des
 ktop-title.elementor-active:after\,.elementor-widget-tabs.elementor-tabs-v
 iew-horizontal .elementor-tab-desktop-title.elementor-active:before{bottom
 :0\;height:0\;width:999em\;border-bottom-style:solid}.elementor-widget-tab
 s.elementor-tabs-view-horizontal .elementor-tab-desktop-title.elementor-ac
 tive:before{right:100%}.elementor-widget-tabs.elementor-tabs-view-horizont
 al .elementor-tab-desktop-title.elementor-active:after{left:100%}.elemento
 r-widget-tabs .elementor-tab-content\,.elementor-widget-tabs .elementor-ta
 b-title\,.elementor-widget-tabs .elementor-tab-title:after\,.elementor-wid
 get-tabs .elementor-tab-title:before\,.elementor-widget-tabs .elementor-ta
 bs-content-wrapper{border:1px #d5d8dc}.elementor-widget-tabs .elementor-ta
 bs{text-align:left}.elementor-widget-tabs .elementor-tabs-wrapper{overflow
 :hidden}.elementor-widget-tabs .elementor-tab-title{cursor:pointer\;outlin
 e:var(--focus-outline\,none)}.elementor-widget-tabs .elementor-tab-desktop
 -title{position:relative\;padding:20px 25px\;font-weight:700\;line-height:
 1\;border:solid transparent}.elementor-widget-tabs .elementor-tab-desktop-
 title.elementor-active{border-color:#d5d8dc}.elementor-widget-tabs .elemen
 tor-tab-desktop-title.elementor-active:after\,.elementor-widget-tabs .elem
 entor-tab-desktop-title.elementor-active:before{display:block\;content:""\
 ;position:absolute}.elementor-widget-tabs .elementor-tab-desktop-title:foc
 us-visible{border:1px solid #000}.elementor-widget-tabs .elementor-tab-mob
 ile-title{padding:10px\;cursor:pointer}.elementor-widget-tabs .elementor-t
 ab-content{padding:20px\;display:none}@media (max-width:767px){.elementor-
 tabs .elementor-tab-content\,.elementor-tabs .elementor-tab-title{border-s
 tyle:solid solid none}.elementor-tabs .elementor-tabs-wrapper{display:none
 }.elementor-tabs .elementor-tabs-content-wrapper{border-bottom-style:solid
 }.elementor-tabs .elementor-tab-content{padding:10px}}@media (min-width:76
 8px){.elementor-widget-tabs.elementor-tabs-view-vertical .elementor-tabs{d
 isplay:flex}.elementor-widget-tabs.elementor-tabs-view-vertical .elementor
 -tabs-wrapper{flex-direction:column}.elementor-widget-tabs.elementor-tabs-
 view-vertical .elementor-tabs-content-wrapper{flex-grow:1\;border-style:so
 lid solid solid none}.elementor-widget-tabs.elementor-tabs-view-horizontal
  .elementor-tab-content{border-style:none solid solid}.elementor-widget-ta
 bs.elementor-tabs-alignment-center .elementor-tabs-wrapper\,.elementor-wid
 get-tabs.elementor-tabs-alignment-end .elementor-tabs-wrapper\,.elementor-
 widget-tabs.elementor-tabs-alignment-stretch .elementor-tabs-wrapper{displ
 ay:flex}.elementor-widget-tabs.elementor-tabs-alignment-center .elementor-
 tabs-wrapper{justify-content:center}.elementor-widget-tabs.elementor-tabs-
 alignment-end .elementor-tabs-wrapper{justify-content:flex-end}.elementor-
 widget-tabs.elementor-tabs-alignment-stretch.elementor-tabs-view-horizonta
 l .elementor-tab-title{width:100%}.elementor-widget-tabs.elementor-tabs-al
 ignment-stretch.elementor-tabs-view-vertical .elementor-tab-title{height:1
 00%}.elementor-tabs .elementor-tab-mobile-title{display:none}}		\n								
 	About\n									RISE Awards\n									Pricing\n									Agenda\n									
 Speakers\n									Speed Mentoring\n									Travel \n									FAQ\n						
 			About\n					About the Event:Experience an immersive blend of interactiv
 e leadership training\, unparalleled networking opportunities\, and a cele
 bratory gathering honoring the finest talents in the insurance world\, inc
 luding our esteemed 35 Under 35 Winners. Over two days\, 500 attendees wil
 l dive into fast-paced TED-Talk style sessions and engaging workshops desi
 gned for swift learning and actionable insights.Who Should Attend:This eve
 nt caters to insurance professionals seeking to elevate their leadership p
 rowess and network with peers and influencers from hundreds of companies. 
 Whether you&#8217\;re an individual contributor or a seasoned manager\, th
 e summit offers tailored tracks to suit diverse career stages.Early career
  professionals who work for insurance companies (carriers\, brokers\, MGA\
 , etc.) in all areas (underwriting\, product\, claims\, technology\, actua
 rial\, sales\, client services\, etc.)Insurance Leaders or those aspiring 
 to beThose looking to grow their careerStudents interested in insuranceRIS
 E members who are part of our committees\, programs\, and boardsWhat to Ex
 pect:Elevate your leadership skills with two tracks of dynamic training se
 ssions and thought-provoking keynotes\, tailored to navigate the ever-evol
 ving insurance landscape. Dive into interactive workshops and engage with 
 a diverse community\, fostering inclusive networking opportunities.With an
  energetic atmosphere and celebratory undertone\, expect honors\, recognit
 ions\, and prestigious awards ceremonies. Connect with executives and peer
 s from over 200 companies\, participate in the renowned speed mentoring ev
 ent\, and capture memorable moments with fun photo opportunities and profe
 ssional headshots. Additionally\, unwind and recharge with wellness-focuse
 d activities\, ensuring a holistic approach to leadership development.\n		
 							RISE Awards\n					The RISE Awards feature our 35 Under 35\, Mentor 
 of the Year\, LEAD Award &amp\; Innovator of the Year. The winners and fi
 nalists will be honored at the 2024 Awards Gala on June 20.Nominations are
  open January 1 – February 16\, 2024Learn more:Rise Awards\n									Pri
 cing\n					PricingIndustry Primary* Early Bird Ticket of Trust (until Jan
 uary 28): $595Industry Primary* Ticket (January 29 &#8211\; April 30): $
 695Industry Primary* Late Ticket (May 1 &#8211\; June 18): $795Industry P
 rimary* On-Site: $895Industry Supporter** (Non-Sponsor): $1295Guest (Non-I
 ndustry) Ticket: $195Guest tickets are only available for non-industry att
 endees and must accompany a registered attendee. Guests are permitted to a
 ttend the receptions on June 18 &amp\; 19\, and the Awards Gala on June 20
 . *Select Industry Primary ticket if you work for a carrier\, broker\, ri
 sk manager\, MGA/MGU\, etc.**Select Industry Supporter ticket if you work 
 for a vendor\, law firm\, or company that supports the insurance industry.
 \n									Agenda\n            Loading&#8230\;\n            Powered By\n  
           \n                Whova\n            \n            \n           
  \n                event planning tools\n            \n									Speakers\n
                     Loading&#8230\;\n                    Powered By\n     
                \n                        Whova\n                    \n    
                 \n                    \n                        event plan
 ning tools\n                    \n									Speed Mentoring\n					Our most 
 popular networking event is back!Speed Mentoring is a fast-paced way for a
 ttendees to meet several different senior leaders and get a chance to ask 
 their most pressing questions about the insurance industry\, career\, and 
 leadership. We invite all executives from insurance-related companies to 
 apply to be a Mentor. Please visit https://stg.riseprofessionals.com/2024-
 leadership-summit-speed-mentor-application/ and fill out the short form to
  apply. You will receive a confirmation email upon acceptance as a Mentor 
 with further instructions.\n									Travel \n					Hotel:Marriott Harbor B
 each Resort3030 Holiday DriveFort Lauderdale\, FL 33316We are pleased to o
 ffer a group rate of $289/night! Book here: https://book.passkey.com/e/507
 01479Closest Airport: Fort Lauderdale-Hollywood Int&#8217\;l Airport (15 m
 ins)Alternative Airports: Palm Beach Int&#8217\;l Airport (1 hour)Miami In
 t&#8217\;l Airport (45 mins)Arriving and Departing: Registration opens on
  Tuesday\, June 18 at 12pm and the conference kicks off with a Welcome Rec
 eption at 5:30pm. The event concludes after the Awards Gala on June 20 at 
 8:45pm.\n									FAQ\n					What is the dress code?The attire for the Lead
 ership Summit is business casual. The Awards Gala in the evening is Formal
 /Black Tie Optional Attire.Can I bring a guest?Guests are permitted to att
 end the Cocktail Receptions on June 18 &amp\; 19\, and the Awards Gala on 
 June 20. Please be sure to purchase a guest ticket.Can you accommodate my 
 dietary restriction(s)?Yes. Please be sure to include your dietary restric
 tion(s) during the registration process.What is the cancellation policy?Yo
 u may cancel your registration up to 30 days in advance for a full refund\
 , less a $25 processing fee. Please submit your cancellation to tsnoddy@ri
 seprofessionals.comWhat is your COVID-19 policy?The health and safety of o
 ur guests and employees is our top priority. Do not attend if you are sick
 \, have recently been exposed to someone with COVID-19\, or are displaying
  any COVID-19 symptoms. RISE will comply with CDC guidelines as well as 
 local\, state\, and federal regulations. Are you offering professional he
 adshots?Yes! Sign up information will be provided in advance to registered
  attendees. \n						"RISE has done a great job finding a niche for young 
 professionals in the industry to have a voice\, network\, exchange knowled
 ge\, continue professional development and to be recognized"					\n							
 	-2023 Leadership Summit & Awards Gala attendee			\n						"I had such an a
 mazing time attending. I saw some truly inspiring keynote speakers\, met s
 ome great new people\, and learned some important information that I could
  take with me."					\n								-2023 Leadership Summit & Awards Gala attend
 ee			\n						"I have been raving about the event to everyone. Seriously on
 e of the best events - regardless of industry\, size\, format - I've ever 
 been to."					\n								-2022 Leadership Summit & Awards Gala attendee			\
 n						"I really enjoyed the speed mentoring and the ability to ask direct
  questions to seasoned leaders in our industry. I felt their feedback was 
 candid and provided valuable insights."					\n								-2023 Leadership Sum
 mit & Awards Gala attendee			\n						"I truly enjoyed the entire experienc
 e. I was taken back to see how well the conference was put together for a 
 relatively new organization. I felt it was paced well with meaningful cont
 ent and truly inspiring speakers. I had so much fun meeting new people and
  enjoyed both closing night parties. They just ended both days on such fun
  events. I will highly recommend this to anyone I can."					\n								-202
 3 Leadership Summit & Awards Gala attendee			\n						"I attend many\, many
  events during the course of a year and I can say that the RISE event was 
 one of the best. Very well organized\, great speakers\, outstanding topics
 \, and super nice networking opportunities. Well done!"					\n								-202
 3 Leadership Summit & Awards Gala attendee			\n						"Most unique conferen
 ce I have attended again this year - leadership focused content was excell
 ent and more broadly focused than just one discipline within insurance so 
 appeal is broad. Everyone can learn something from attending."					\n					
 			-2023 Leadership Summit & Awards Gala attendee			\n						"Cheers once a
 gain to the RISE team on making the event value-added and FUN. You're real
 ly walking the talk around advocating for diversity in our industry and be
 ing the change you wish to see in the world. I'm excited to continue to su
 pport the organization."					\n								-2022 Leadership Summit & Awards Ga
 la attendee			\n							Previous\n							Next\n			Thank You to Our Sponsors
 		\n			Presenting		\n																														\n			/*! elementor - v3
 .18.0 - 20-12-2023 */\n.elementor-widget-divider{--divider-border-style:no
 ne\;--divider-border-width:1px\;--divider-color:#0c0d0e\;--divider-icon-si
 ze:20px\;--divider-element-spacing:10px\;--divider-pattern-height:24px\;--
 divider-pattern-size:20px\;--divider-pattern-url:none\;--divider-pattern-r
 epeat:repeat-x}.elementor-widget-divider .elementor-divider{display:flex}.
 elementor-widget-divider .elementor-divider__text{font-size:15px\;line-hei
 ght:1\;max-width:95%}.elementor-widget-divider .elementor-divider__element
 {margin:0 var(--divider-element-spacing)\;flex-shrink:0}.elementor-widget-
 divider .elementor-icon{font-size:var(--divider-icon-size)}.elementor-widg
 et-divider .elementor-divider-separator{display:flex\;margin:0\;direction:
 ltr}.elementor-widget-divider--view-line_icon .elementor-divider-separator
 \,.elementor-widget-divider--view-line_text .elementor-divider-separator{a
 lign-items:center}.elementor-widget-divider--view-line_icon .elementor-div
 ider-separator:after\,.elementor-widget-divider--view-line_icon .elementor
 -divider-separator:before\,.elementor-widget-divider--view-line_text .elem
 entor-divider-separator:after\,.elementor-widget-divider--view-line_text .
 elementor-divider-separator:before{display:block\;content:""\;border-botto
 m:0\;flex-grow:1\;border-top:var(--divider-border-width) var(--divider-bor
 der-style) var(--divider-color)}.elementor-widget-divider--element-align-l
 eft .elementor-divider .elementor-divider-separator>.elementor-divider__sv
 g:first-of-type{flex-grow:0\;flex-shrink:100}.elementor-widget-divider--el
 ement-align-left .elementor-divider-separator:before{content:none}.element
 or-widget-divider--element-align-left .elementor-divider__element{margin-l
 eft:0}.elementor-widget-divider--element-align-right .elementor-divider .e
 lementor-divider-separator>.elementor-divider__svg:last-of-type{flex-grow:
 0\;flex-shrink:100}.elementor-widget-divider--element-align-right .element
 or-divider-separator:after{content:none}.elementor-widget-divider--element
 -align-right .elementor-divider__element{margin-right:0}.elementor-widget-
 divider:not(.elementor-widget-divider--view-line_text):not(.elementor-widg
 et-divider--view-line_icon) .elementor-divider-separator{border-top:var(--
 divider-border-width) var(--divider-border-style) var(--divider-color)}.el
 ementor-widget-divider--separator-type-pattern{--divider-border-style:none
 }.elementor-widget-divider--separator-type-pattern.elementor-widget-divide
 r--view-line .elementor-divider-separator\,.elementor-widget-divider--sepa
 rator-type-pattern:not(.elementor-widget-divider--view-line) .elementor-di
 vider-separator:after\,.elementor-widget-divider--separator-type-pattern:n
 ot(.elementor-widget-divider--view-line) .elementor-divider-separator:befo
 re\,.elementor-widget-divider--separator-type-pattern:not([class*=elemento
 r-widget-divider--view]) .elementor-divider-separator{width:100%\;min-heig
 ht:var(--divider-pattern-height)\;-webkit-mask-size:var(--divider-pattern-
 size) 100%\;mask-size:var(--divider-pattern-size) 100%\;-webkit-mask-repea
 t:var(--divider-pattern-repeat)\;mask-repeat:var(--divider-pattern-repeat)
 \;background-color:var(--divider-color)\;-webkit-mask-image:var(--divider-
 pattern-url)\;mask-image:var(--divider-pattern-url)}.elementor-widget-divi
 der--no-spacing{--divider-pattern-size:auto}.elementor-widget-divider--bg-
 round{--divider-pattern-repeat:round}.rtl .elementor-widget-divider .eleme
 ntor-divider__text{direction:rtl}.e-con-inner>.elementor-widget-divider\,.
 e-con>.elementor-widget-divider{width:var(--container-widget-width\,100%)\
 ;--flex-grow:var(--container-widget-flex-grow)}		\n			Diamond		\n									
 																					\n			Platinum		\n																														\n			G
 old		\n																														\n																														\n			
 																											\n			Silver		\n			Supporters		\n			\n						 Dow
 nload Sponsorship Prospectus\n					\n		Questions? Contact Tori Snoddy at t
 snoddy@riseprofessionals.com
ATTACH;FMTTYPE=image/jpeg:https://cdn.riseprofessionals.com/wp-content/upl
 oads/2023/06/11175849/Untitled-design-46.png
CATEGORIES:Conference,In-Person
LOCATION:Marriott Harbor Beach Resort & Spa\, 3030 Holiday Dr Fort Lauderda
 le\, Fort Lauderdale\, FL\, 33316\, United States
GEO:26.106454;-80.106085
X-APPLE-STRUCTURED-LOCATION;VALUE=URI;X-ADDRESS=3030 Holiday Dr Fort Lauder
 dale\, Fort Lauderdale\, FL\, 33316\, United States;X-APPLE-RADIUS=100;X-T
 ITLE=Marriott Harbor Beach Resort & Spa:geo:26.106454,-80.106085
END:VEVENT
BEGIN:VTIMEZONE
TZID:America/New_York
X-LIC-LOCATION:America/New_York
BEGIN:DAYLIGHT
DTSTART:20240310T030000
TZOFFSETFROM:-0500
TZOFFSETTO:-0400
TZNAME:EDT
END:DAYLIGHT
END:VTIMEZONE
END:VCALENDAR